BEGIN:VCALENDAR
VERSION:2.0
PRODID:icalendar-ruby
CALSCALE:GREGORIAN
METHOD:PUBLISH
BEGIN:VEVENT
DTSTAMP:20260423T034406Z
UID:0422fd35-f9e9-42fd-9e7b-a5a0229c2180
DTSTART;VALUE=DATE:20190504
DTEND;VALUE=DATE:20190504
DESCRIPTION:Spokane BMX
LOCATION:5701 N Assembly St  Spokane WA 99205 USA
SUMMARY:Standard Single Single
URL:/site/bmx_races/397376
END:VEVENT
END:VCALENDAR
