BEGIN:VCALENDAR
VERSION:2.0
PRODID:icalendar-ruby
CALSCALE:GREGORIAN
METHOD:PUBLISH
BEGIN:VEVENT
DTSTAMP:20260422T212610Z
UID:d594fb6f-e803-401f-b5da-2c490c9fd9fb
DTSTART;VALUE=DATE:20190910
DTEND;VALUE=DATE:20190910
DESCRIPTION:Spokane BMX
LOCATION:5701 N Assembly St  Spokane WA 99205 USA
SUMMARY:Practice
URL:/site/bmx_races/397423
END:VEVENT
END:VCALENDAR
