BEGIN:VCALENDAR
VERSION:2.0
PRODID:icalendar-ruby
CALSCALE:GREGORIAN
METHOD:PUBLISH
BEGIN:VEVENT
DTSTAMP:20260424T174600Z
UID:5d6236d1-0fcf-4f48-8b22-750e54936909
DTSTART;VALUE=DATE:20190715
DTEND;VALUE=DATE:20190715
DESCRIPTION:Twin Silo BMX
LOCATION:5400 Ziegler Rd.   Ft Collins CO 80528 USA
SUMMARY:Practice
URL:/site/bmx_races/398201
END:VEVENT
END:VCALENDAR
