BEGIN:VCALENDAR
VERSION:2.0
PRODID:icalendar-ruby
CALSCALE:GREGORIAN
METHOD:PUBLISH
BEGIN:VEVENT
DTSTAMP:20260424T161223Z
UID:9306adc8-01d3-4ee6-830a-9d7d2f8f8e68
DTSTART;VALUE=DATE:20190805
DTEND;VALUE=DATE:20190805
DESCRIPTION:Twin Silo BMX
LOCATION:5400 Ziegler Rd.   Ft Collins CO 80528 USA
SUMMARY:Practice
URL:/site/bmx_races/398210
END:VEVENT
END:VCALENDAR
