BEGIN:VCALENDAR
VERSION:2.0
PRODID:icalendar-ruby
CALSCALE:GREGORIAN
METHOD:PUBLISH
BEGIN:VEVENT
DTSTAMP:20260424T232336Z
UID:dc47da79-f5f3-4b10-ab19-7c453c184727
DTSTART;VALUE=DATE:20190824
DTEND;VALUE=DATE:20190824
DESCRIPTION:Southern Maryland BMX
LOCATION:26600 Budds Creek Rd  Mechanicsville MD 20659 USA
SUMMARY:Standard Single Single
URL:/site/bmx_races/398307
END:VEVENT
END:VCALENDAR
