BEGIN:VCALENDAR
VERSION:2.0
PRODID:icalendar-ruby
CALSCALE:GREGORIAN
METHOD:PUBLISH
BEGIN:VEVENT
DTSTAMP:20260419T142344Z
UID:debfe304-2e77-4e72-97c1-ab2cecb47c6f
DTSTART;VALUE=DATE:20190518
DTEND;VALUE=DATE:20190518
DESCRIPTION:Oak Mountain BMX
LOCATION:Oak Mountain State Park  Pelham AL 35043 USA
SUMMARY:Standard Single Single
URL:/site/bmx_races/398446
END:VEVENT
END:VCALENDAR
