BEGIN:VCALENDAR
VERSION:2.0
PRODID:icalendar-ruby
CALSCALE:GREGORIAN
METHOD:PUBLISH
BEGIN:VEVENT
DTSTAMP:20260424T124546Z
UID:a4435ac9-9007-4c70-b615-50d21263fa7f
DTSTART;VALUE=DATE:20191124
DTEND;VALUE=DATE:20191124
DESCRIPTION:Blue Springs BMX
LOCATION:2715 Nw Park Drive  Blue Springs MO 64015 USA
SUMMARY:Standard Single Single
URL:/site/bmx_races/398609
END:VEVENT
END:VCALENDAR
