BEGIN:VCALENDAR
VERSION:2.0
PRODID:icalendar-ruby
CALSCALE:GREGORIAN
METHOD:PUBLISH
BEGIN:VEVENT
DTSTAMP:20260424T232325Z
UID:b6777f6b-ab0f-4a03-b9ff-6fd20c560d4c
DTSTART;VALUE=DATE:20190202
DTEND;VALUE=DATE:20190202
DESCRIPTION:Rum River BMX
LOCATION:Isanti Parkway Northwest  Isanti MN 55040 USA
SUMMARY:Standard Single Single
URL:/site/bmx_races/398724
END:VEVENT
END:VCALENDAR
