BEGIN:VCALENDAR
VERSION:2.0
PRODID:icalendar-ruby
CALSCALE:GREGORIAN
METHOD:PUBLISH
BEGIN:VEVENT
DTSTAMP:20260424T232501Z
UID:ce9dbab2-d7e9-4501-8289-3e73edf43d3c
DTSTART;VALUE=DATE:20190906
DTEND;VALUE=DATE:20190906
DESCRIPTION:Mike Sedar BMX
LOCATION:789 College Dr  Casper WY 82601 USA
SUMMARY:Standard Single Single
URL:/site/bmx_races/398811
END:VEVENT
END:VCALENDAR
