BEGIN:VCALENDAR
VERSION:2.0
PRODID:icalendar-ruby
CALSCALE:GREGORIAN
METHOD:PUBLISH
BEGIN:VEVENT
DTSTAMP:20260424T215927Z
UID:876980e7-e6cc-4ae8-a429-7c9fa18d544e
DTSTART;VALUE=DATE:20191005
DTEND;VALUE=DATE:20191005
DESCRIPTION:Mike Sedar BMX
LOCATION:789 College Dr  Casper WY 82601 USA
SUMMARY:Standard Single Single
URL:/site/bmx_races/398833
END:VEVENT
END:VCALENDAR
