BEGIN:VCALENDAR
VERSION:2.0
PRODID:icalendar-ruby
CALSCALE:GREGORIAN
METHOD:PUBLISH
BEGIN:VEVENT
DTSTAMP:20260424T073944Z
UID:c57c5fb1-6b6d-4748-8e95-b425653856e8
DTSTART;VALUE=DATE:20190207
DTEND;VALUE=DATE:20190207
DESCRIPTION:Circle City BMX
LOCATION:Westgate Park    100 Recreation Rd Dothan AL 36305 USA
SUMMARY:Practice
URL:/site/bmx_races/399091
END:VEVENT
END:VCALENDAR
