BEGIN:VCALENDAR
VERSION:2.0
PRODID:icalendar-ruby
CALSCALE:GREGORIAN
METHOD:PUBLISH
BEGIN:VEVENT
DTSTAMP:20260425T221328Z
UID:3e23a49b-2dab-4369-88a3-2f9487d22523
DTSTART;VALUE=DATE:20190202
DTEND;VALUE=DATE:20190202
DESCRIPTION:Black Mountain BMX
LOCATION:24024 N 11th St  Phoenix AZ 85024 USA
SUMMARY:Standard Double Double
URL:/site/bmx_races/399536
END:VEVENT
END:VCALENDAR
