BEGIN:VCALENDAR
VERSION:2.0
PRODID:icalendar-ruby
CALSCALE:GREGORIAN
METHOD:PUBLISH
BEGIN:VEVENT
DTSTAMP:20260426T022327Z
UID:899b55f7-fc47-4773-bc1a-81835b36247f
DTSTART;VALUE=DATE:20190113
DTEND;VALUE=DATE:20190113
DESCRIPTION:Boomtown BMX
LOCATION:17760 Shasta Dam Blvd  Shasta Lake CA 96019 USA
SUMMARY:Standard Single Single
URL:/site/bmx_races/399692
END:VEVENT
END:VCALENDAR
