BEGIN:VCALENDAR
VERSION:2.0
PRODID:icalendar-ruby
CALSCALE:GREGORIAN
METHOD:PUBLISH
BEGIN:VEVENT
DTSTAMP:20260424T051733Z
UID:2e60d106-7af1-48ee-930e-09858707232b
DTSTART;VALUE=DATE:20190721
DTEND;VALUE=DATE:20190721
DESCRIPTION:Grand Prix BMX at SoCal Fair
LOCATION:18700 Lake Perris Dr  Perris CA 92571 USA
SUMMARY:Standard Single Single
URL:/site/bmx_races/399888
END:VEVENT
END:VCALENDAR
