BEGIN:VCALENDAR
VERSION:2.0
PRODID:icalendar-ruby
CALSCALE:GREGORIAN
METHOD:PUBLISH
BEGIN:VEVENT
DTSTAMP:20260424T034829Z
UID:9eb60b51-aa27-49e1-9e51-940fd5eb4dfc
DTSTART;VALUE=DATE:20190811
DTEND;VALUE=DATE:20190811
DESCRIPTION:Grand Prix BMX at SoCal Fair
LOCATION:18700 Lake Perris Dr  Perris CA 92571 USA
SUMMARY:Local Race Single
URL:/site/bmx_races/399897
END:VEVENT
END:VCALENDAR
