BEGIN:VCALENDAR
VERSION:2.0
PRODID:icalendar-ruby
CALSCALE:GREGORIAN
METHOD:PUBLISH
BEGIN:VEVENT
DTSTAMP:20260419T142345Z
UID:80a74ee1-5b0c-4361-adc9-b596e10c76e3
DTSTART;VALUE=DATE:20190814
DTEND;VALUE=DATE:20190814
DESCRIPTION:Grand Prix BMX at SoCal Fair
LOCATION:18700 Lake Perris Dr  Perris CA 92571 USA
SUMMARY:Standard Single Single
URL:/site/bmx_races/399899
END:VEVENT
END:VCALENDAR
