BEGIN:VCALENDAR
VERSION:2.0
PRODID:icalendar-ruby
CALSCALE:GREGORIAN
METHOD:PUBLISH
BEGIN:VEVENT
DTSTAMP:20260423T021717Z
UID:8cc3b5eb-724c-45af-9f96-f8bcc1587e66
DTSTART;VALUE=DATE:20190530
DTEND;VALUE=DATE:20190530
DESCRIPTION:Penticton BMX
LOCATION:630 Munson Mountain Road  Penticton BC V2A 8S5 CAN
SUMMARY:Standard Single Single
URL:/site/bmx_races/400338
END:VEVENT
END:VCALENDAR
