BEGIN:VCALENDAR
VERSION:2.0
PRODID:icalendar-ruby
CALSCALE:GREGORIAN
METHOD:PUBLISH
BEGIN:VEVENT
DTSTAMP:20260423T004315Z
UID:3a68c7fd-f0e3-4e6e-91b7-5574a03a3dfb
DTSTART;VALUE=DATE:20190627
DTEND;VALUE=DATE:20190627
DESCRIPTION:Penticton BMX
LOCATION:630 Munson Mountain Road  Penticton BC V2A 8S5 CAN
SUMMARY:Olympic Single
URL:/site/bmx_races/400342
END:VEVENT
END:VCALENDAR
