BEGIN:VCALENDAR
VERSION:2.0
PRODID:icalendar-ruby
CALSCALE:GREGORIAN
METHOD:PUBLISH
BEGIN:VEVENT
DTSTAMP:20260424T142900Z
UID:4a70aa9b-042f-4312-b7b4-0bf9d7a9357c
DTSTART;VALUE=DATE:20190623
DTEND;VALUE=DATE:20190623
DESCRIPTION:Drake Well BMX
LOCATION:516 Allen St  Titusville PA 16354 USA
SUMMARY:Standard Single Single
URL:/site/bmx_races/400625
END:VEVENT
END:VCALENDAR
