BEGIN:VCALENDAR
VERSION:2.0
PRODID:icalendar-ruby
CALSCALE:GREGORIAN
METHOD:PUBLISH
BEGIN:VEVENT
DTSTAMP:20260424T094639Z
UID:54c6529c-0eb4-4b7e-bba8-3ca820311a7e
DTSTART;VALUE=DATE:20190209
DTEND;VALUE=DATE:20190209
DESCRIPTION:Imperial Valley BMX
LOCATION:1750 Drew Rd  El Centro CA 92243 USA
SUMMARY:Standard Double Double
URL:/site/bmx_races/400760
END:VEVENT
END:VCALENDAR
