BEGIN:VCALENDAR
VERSION:2.0
PRODID:icalendar-ruby
CALSCALE:GREGORIAN
METHOD:PUBLISH
BEGIN:VEVENT
DTSTAMP:20260423T060148Z
UID:2df09511-b450-4d5e-aa20-ef3648b1cfdc
DTSTART;VALUE=DATE:20190521
DTEND;VALUE=DATE:20190521
DESCRIPTION:Blanchard Woods BMX
LOCATION:4600 Blanchard Woods Drive  Evans GA 30809 USA
SUMMARY:Practice
URL:/site/bmx_races/400782
END:VEVENT
END:VCALENDAR
