BEGIN:VCALENDAR
VERSION:2.0
PRODID:icalendar-ruby
CALSCALE:GREGORIAN
METHOD:PUBLISH
BEGIN:VEVENT
DTSTAMP:20260424T062439Z
UID:3e5d442d-6c1d-431c-a8ce-0677ba5b0b7a
DTSTART;VALUE=DATE:20190126
DTEND;VALUE=DATE:20190126
DESCRIPTION:Whittier Narrows BMX
LOCATION:1601 N Rosemead Blvd  South El Monte CA 91733 USA
SUMMARY:Standard Single Single
URL:/site/bmx_races/401221
END:VEVENT
END:VCALENDAR
