BEGIN:VCALENDAR
VERSION:2.0
PRODID:icalendar-ruby
CALSCALE:GREGORIAN
METHOD:PUBLISH
BEGIN:VEVENT
DTSTAMP:20260425T022954Z
UID:81474509-d665-4519-b954-c4b7217d4008
DTSTART;VALUE=DATE:20190516
DTEND;VALUE=DATE:20190516
DESCRIPTION:First State BMX
LOCATION:1045 N Walnut St  Milford DE 19963 USA
SUMMARY:Practice
URL:/site/bmx_races/401568
END:VEVENT
END:VCALENDAR
