BEGIN:VCALENDAR
VERSION:2.0
PRODID:icalendar-ruby
CALSCALE:GREGORIAN
METHOD:PUBLISH
BEGIN:VEVENT
DTSTAMP:20260424T202538Z
UID:fa596dbf-007f-4d1d-b0fd-3d3888cd9e30
DTSTART;VALUE=DATE:20190924
DTEND;VALUE=DATE:20190924
DESCRIPTION:First State BMX
LOCATION:1045 N Walnut St  Milford DE 19963 USA
SUMMARY:Standard Single Single
URL:/site/bmx_races/401624
END:VEVENT
END:VCALENDAR
