BEGIN:VCALENDAR
VERSION:2.0
PRODID:icalendar-ruby
CALSCALE:GREGORIAN
METHOD:PUBLISH
BEGIN:VEVENT
DTSTAMP:20260423T040836Z
UID:20ca7be9-5d9a-4472-8d1f-701d86c1f78e
DTSTART;VALUE=DATE:20190601
DTEND;VALUE=DATE:20190601
DESCRIPTION:Brighton BMX
LOCATION:414 N Maple St  Brighton IL 62012 USA
SUMMARY:Standard Double Double
URL:/site/bmx_races/401952
END:VEVENT
END:VCALENDAR
