BEGIN:VCALENDAR
VERSION:2.0
PRODID:icalendar-ruby
CALSCALE:GREGORIAN
METHOD:PUBLISH
BEGIN:VEVENT
DTSTAMP:20260422T203708Z
UID:6f898707-f86a-4139-b131-cf7485d7e355
DTSTART;VALUE=DATE:20191031
DTEND;VALUE=DATE:20191031
DESCRIPTION:Goodyear BMX Raceway
LOCATION:15660 W Roeser Rd  Goodyear AZ 85338 USA
SUMMARY:Practice
URL:/site/bmx_races/402042
END:VEVENT
END:VCALENDAR
