BEGIN:VCALENDAR
VERSION:2.0
PRODID:icalendar-ruby
CALSCALE:GREGORIAN
METHOD:PUBLISH
BEGIN:VEVENT
DTSTAMP:20260424T011427Z
UID:38e2b1bb-b851-4663-8347-0b6e8ab18a81
DTSTART;VALUE=DATE:20190802
DTEND;VALUE=DATE:20190802
DESCRIPTION:St. Peters BMX
LOCATION:100 Brown Rd  St. Peters MO 63376 USA
SUMMARY:Standard Single Single
URL:/site/bmx_races/402479
END:VEVENT
END:VCALENDAR
