BEGIN:VCALENDAR
VERSION:2.0
PRODID:icalendar-ruby
CALSCALE:GREGORIAN
METHOD:PUBLISH
BEGIN:VEVENT
DTSTAMP:20260419T204838Z
UID:2ca714ee-21d1-490d-9a19-636d32d924db
DTSTART;VALUE=DATE:20190219
DTEND;VALUE=DATE:20190219
DESCRIPTION:Imperial Valley BMX
LOCATION:1750 Drew Rd  El Centro CA 92243 USA
SUMMARY:Standard Single Single
URL:/site/bmx_races/402867
END:VEVENT
END:VCALENDAR
