BEGIN:VCALENDAR
VERSION:2.0
PRODID:icalendar-ruby
CALSCALE:GREGORIAN
METHOD:PUBLISH
BEGIN:VEVENT
DTSTAMP:20260423T184518Z
UID:58e627b3-d83f-49f5-bd65-fb918e463d22
DTSTART;VALUE=DATE:20190228
DTEND;VALUE=DATE:20190228
DESCRIPTION:Imperial Valley BMX
LOCATION:1750 Drew Rd  El Centro CA 92243 USA
SUMMARY:Standard Single Single
URL:/site/bmx_races/402870
END:VEVENT
END:VCALENDAR
