BEGIN:VCALENDAR
VERSION:2.0
PRODID:icalendar-ruby
CALSCALE:GREGORIAN
METHOD:PUBLISH
BEGIN:VEVENT
DTSTAMP:20260423T045122Z
UID:c0fdcb93-1d7c-4ed8-a33c-3317001f2f50
DTSTART;VALUE=DATE:20191027
DTEND;VALUE=DATE:20191027
DESCRIPTION:Akron BMX
LOCATION:800 Derby Downs Drive  Akron OH 44306 USA
SUMMARY:Standard Single Single
URL:/site/bmx_races/402924
END:VEVENT
END:VCALENDAR
