BEGIN:VCALENDAR
VERSION:2.0
PRODID:icalendar-ruby
CALSCALE:GREGORIAN
METHOD:PUBLISH
BEGIN:VEVENT
DTSTAMP:20260424T073938Z
UID:ab5c2820-e117-41ac-9e0d-19cfd626bb4b
DTSTART;VALUE=DATE:20190125
DTEND;VALUE=DATE:20190125
DESCRIPTION:Santa Maria BMX
LOCATION:4040 Highway 101  Santa Maria CA 93455 USA
SUMMARY:Standard Single Single
URL:/site/bmx_races/403506
END:VEVENT
END:VCALENDAR
