BEGIN:VCALENDAR
VERSION:2.0
PRODID:icalendar-ruby
CALSCALE:GREGORIAN
METHOD:PUBLISH
BEGIN:VEVENT
DTSTAMP:20260419T170700Z
UID:14bdd273-b264-41f6-a7fa-6d0f2e1776e0
DTSTART;VALUE=DATE:20190416
DTEND;VALUE=DATE:20190416
DESCRIPTION:Lake Havasu City BMX
LOCATION:7260 Mc Culloch Blvd S. #B  Lake Havasu City AZ 86406 USA
SUMMARY:Standard Single Single
URL:/site/bmx_races/404710
END:VEVENT
END:VCALENDAR
