BEGIN:VCALENDAR
VERSION:2.0
PRODID:icalendar-ruby
CALSCALE:GREGORIAN
METHOD:PUBLISH
BEGIN:VEVENT
DTSTAMP:20260419T184222Z
UID:b51ccb9f-82fe-47b5-97ff-dd6c1ab6bc1f
DTSTART;VALUE=DATE:20190418
DTEND;VALUE=DATE:20190418
DESCRIPTION:Lake Havasu City BMX
LOCATION:7260 Mc Culloch Blvd S. #B  Lake Havasu City AZ 86406 USA
SUMMARY:Standard Single Single
URL:/site/bmx_races/404711
END:VEVENT
END:VCALENDAR
