BEGIN:VCALENDAR
VERSION:2.0
PRODID:icalendar-ruby
CALSCALE:GREGORIAN
METHOD:PUBLISH
BEGIN:VEVENT
DTSTAMP:20260424T011425Z
UID:7b41cea1-82fd-4253-bd3e-fb9570ec3035
DTSTART;VALUE=DATE:20190512
DTEND;VALUE=DATE:20190512
DESCRIPTION:Molalla River BMX
LOCATION:920 Toliver Rd  Molalla OR 97038 USA
SUMMARY:Standard Single Single
URL:/site/bmx_races/405073
END:VEVENT
END:VCALENDAR
