BEGIN:VCALENDAR
VERSION:2.0
PRODID:icalendar-ruby
CALSCALE:GREGORIAN
METHOD:PUBLISH
BEGIN:VEVENT
DTSTAMP:20260424T034824Z
UID:cb560144-9bf9-4536-a810-69fd7969e424
DTSTART;VALUE=DATE:20191006
DTEND;VALUE=DATE:20191006
DESCRIPTION:Molalla River BMX
LOCATION:920 Toliver Rd  Molalla OR 97038 USA
SUMMARY:Standard Single Single
URL:/site/bmx_races/405115
END:VEVENT
END:VCALENDAR
