BEGIN:VCALENDAR
VERSION:2.0
PRODID:icalendar-ruby
CALSCALE:GREGORIAN
METHOD:PUBLISH
BEGIN:VEVENT
DTSTAMP:20260422T123348Z
UID:1824c7ca-3b03-4bee-bb30-8678b6ce7c86
DTSTART;VALUE=DATE:20190127
DTEND;VALUE=DATE:20190127
DESCRIPTION:Sycamore BMX
LOCATION:1692 Sycamore Dr.  Simi Valley CA 93065 USA
SUMMARY:Standard Double Double
URL:/site/bmx_races/405686
END:VEVENT
END:VCALENDAR
