BEGIN:VCALENDAR
VERSION:2.0
PRODID:icalendar-ruby
CALSCALE:GREGORIAN
METHOD:PUBLISH
BEGIN:VEVENT
DTSTAMP:20260423T051407Z
UID:124cf356-9e43-4e43-b794-ef03c1b5edd3
DTSTART;VALUE=DATE:20190920
DTEND;VALUE=DATE:20190920
DESCRIPTION:Riverside BMX
LOCATION:Mason Sports Complex 701 Mason Rec Rd. Cumberland MD 21502 USA
SUMMARY:Standard Single Single
URL:/site/bmx_races/406040
END:VEVENT
END:VCALENDAR
