BEGIN:VCALENDAR
VERSION:2.0
PRODID:icalendar-ruby
CALSCALE:GREGORIAN
METHOD:PUBLISH
BEGIN:VEVENT
DTSTAMP:20260423T043145Z
UID:1b51e98a-68e2-446e-9ca0-c47180680ecb
DTSTART;VALUE=DATE:20190406
DTEND;VALUE=DATE:20190406
DESCRIPTION:Oldsmar BMX Supercross
LOCATION:Oldsmar Sports Complex 3120 Tampa Road Oldsmar FL 34677 USA
SUMMARY:Standard Single Single
URL:/site/bmx_races/406400
END:VEVENT
END:VCALENDAR
