BEGIN:VCALENDAR
VERSION:2.0
PRODID:icalendar-ruby
CALSCALE:GREGORIAN
METHOD:PUBLISH
BEGIN:VEVENT
DTSTAMP:20260419T190423Z
UID:743d47ca-c86a-4c41-bcc4-886f6ed1f35b
DTSTART;VALUE=DATE:20190411
DTEND;VALUE=DATE:20190411
DESCRIPTION:Lone Star BMX
LOCATION:3950 Eisenhauer Rd  San Antonio TX 78218 USA
SUMMARY:Standard Single Single
URL:/site/bmx_races/406559
END:VEVENT
END:VCALENDAR
