BEGIN:VCALENDAR
VERSION:2.0
PRODID:icalendar-ruby
CALSCALE:GREGORIAN
METHOD:PUBLISH
BEGIN:VEVENT
DTSTAMP:20260420T040016Z
UID:da6b73fa-99b0-471a-99f1-6dbf2f689f1a
DTSTART;VALUE=DATE:20180927
DTEND;VALUE=DATE:20180927
DESCRIPTION:Yukon BMX
LOCATION:Taylor Park Sports Complex   410 N 11th St Yukon OK 73064 USA
SUMMARY:Standard Single Single
URL:/site/bmx_races/407345
END:VEVENT
END:VCALENDAR
