BEGIN:VCALENDAR
VERSION:2.0
PRODID:icalendar-ruby
CALSCALE:GREGORIAN
METHOD:PUBLISH
BEGIN:VEVENT
DTSTAMP:20260424T114054Z
UID:3c7cc7e5-3452-4c2d-9821-3ff17b85e6a4
DTSTART;VALUE=DATE:20191123
DTEND;VALUE=DATE:20191123
DESCRIPTION:Rum River BMX
LOCATION:Isanti Parkway Northwest  Isanti MN 55040 USA
SUMMARY:Standard Single Single
URL:/site/bmx_races/407916
END:VEVENT
END:VCALENDAR
