BEGIN:VCALENDAR
VERSION:2.0
PRODID:icalendar-ruby
CALSCALE:GREGORIAN
METHOD:PUBLISH
BEGIN:VEVENT
DTSTAMP:20260419T182527Z
UID:30c88bf3-9fdd-4e88-9ac9-28ee52cab1d0
DTSTART;VALUE=DATE:20191208
DTEND;VALUE=DATE:20191208
DESCRIPTION:Rum River BMX
LOCATION:Isanti Parkway Northwest  Isanti MN 55040 USA
SUMMARY:Standard Single Single
URL:/site/bmx_races/407922
END:VEVENT
END:VCALENDAR
