BEGIN:VCALENDAR
VERSION:2.0
PRODID:icalendar-ruby
CALSCALE:GREGORIAN
METHOD:PUBLISH
BEGIN:VEVENT
DTSTAMP:20260425T104125Z
UID:30352eb7-f6cf-4dc1-9336-375a7a506a1e
DTSTART;VALUE=DATE:20131002
DTEND;VALUE=DATE:20131002
DESCRIPTION:Kingston Point BMX
LOCATION:4 Delaware Ave  Kingston NY 12401 USA
SUMMARY:Local Race Single
URL:/site/bmx_races/40804
END:VEVENT
END:VCALENDAR
