BEGIN:VCALENDAR
VERSION:2.0
PRODID:icalendar-ruby
CALSCALE:GREGORIAN
METHOD:PUBLISH
BEGIN:VEVENT
DTSTAMP:20260425T212227Z
UID:f7f1a595-3c6d-4629-a4fc-910df81b9e8c
DTSTART;VALUE=DATE:20190808
DTEND;VALUE=DATE:20190808
DESCRIPTION:Pemberton BMX
LOCATION:Cottonwood Road  Pemberton BC V0N2L1 CAN
SUMMARY:Local Race Single
URL:/site/bmx_races/408078
END:VEVENT
END:VCALENDAR
