BEGIN:VCALENDAR
VERSION:2.0
PRODID:icalendar-ruby
CALSCALE:GREGORIAN
METHOD:PUBLISH
BEGIN:VEVENT
DTSTAMP:20260423T040829Z
UID:7d5debf2-08ae-4fe0-b555-a0a0bd459d64
DTSTART;VALUE=DATE:20190823
DTEND;VALUE=DATE:20190823
DESCRIPTION:Caldwell BMX
LOCATION:4700 Skyway St  Caldwell ID 83605 USA
SUMMARY:Standard Single Single
URL:/site/bmx_races/408173
END:VEVENT
END:VCALENDAR
