BEGIN:VCALENDAR
VERSION:2.0
PRODID:icalendar-ruby
CALSCALE:GREGORIAN
METHOD:PUBLISH
BEGIN:VEVENT
DTSTAMP:20260424T232207Z
UID:352b0bf9-a748-4557-92c5-02aa228953a5
DTSTART;VALUE=DATE:20190823
DTEND;VALUE=DATE:20190823
DESCRIPTION:North Shore BMX
LOCATION:1301 Lillooet Road  North Vancouver BC V7J 3T7 CAN
SUMMARY:Practice
URL:/site/bmx_races/408263
END:VEVENT
END:VCALENDAR
