BEGIN:VCALENDAR
VERSION:2.0
PRODID:icalendar-ruby
CALSCALE:GREGORIAN
METHOD:PUBLISH
BEGIN:VEVENT
DTSTAMP:20260424T202535Z
UID:11ff6246-734b-4bd5-89f2-c5baa9444679
DTSTART;VALUE=DATE:20190913
DTEND;VALUE=DATE:20190913
DESCRIPTION:North Shore BMX
LOCATION:1301 Lillooet Road  North Vancouver BC V7J 3T7 CAN
SUMMARY:Practice
URL:/site/bmx_races/408269
END:VEVENT
END:VCALENDAR
