BEGIN:VCALENDAR
VERSION:2.0
PRODID:icalendar-ruby
CALSCALE:GREGORIAN
METHOD:PUBLISH
BEGIN:VEVENT
DTSTAMP:20260424T202539Z
UID:09ee9502-b9aa-43bd-bccb-609c37a2946a
DTSTART;VALUE=DATE:20190920
DTEND;VALUE=DATE:20190920
DESCRIPTION:North Shore BMX
LOCATION:1301 Lillooet Road  North Vancouver BC V7J 3T7 CAN
SUMMARY:Practice
URL:/site/bmx_races/408271
END:VEVENT
END:VCALENDAR
