BEGIN:VCALENDAR
VERSION:2.0
PRODID:icalendar-ruby
CALSCALE:GREGORIAN
METHOD:PUBLISH
BEGIN:VEVENT
DTSTAMP:20260424T202538Z
UID:3fa41644-175b-435a-9a71-c304045d6b70
DTSTART;VALUE=DATE:20190927
DTEND;VALUE=DATE:20190927
DESCRIPTION:North Shore BMX
LOCATION:1301 Lillooet Road  North Vancouver BC V7J 3T7 CAN
SUMMARY:Practice
URL:/site/bmx_races/408314
END:VEVENT
END:VCALENDAR
