BEGIN:VCALENDAR
VERSION:2.0
PRODID:icalendar-ruby
CALSCALE:GREGORIAN
METHOD:PUBLISH
BEGIN:VEVENT
DTSTAMP:20260425T022847Z
UID:53011a6e-7e64-4078-b931-6e8579f58266
DTSTART;VALUE=DATE:20190529
DTEND;VALUE=DATE:20190529
DESCRIPTION:North Shore BMX
LOCATION:1301 Lillooet Road  North Vancouver BC V7J 3T7 CAN
SUMMARY:Standard Single Single
URL:/site/bmx_races/408319
END:VEVENT
END:VCALENDAR
